BEGIN:VCALENDAR
VERSION:2.0
PRODID:-//Food Industry Executive - ECPv5.8.1//NONSGML v1.0//EN
CALSCALE:GREGORIAN
METHOD:PUBLISH
X-WR-CALNAME:Food Industry Executive
X-ORIGINAL-URL:https://foodindustryexecutive.com
X-WR-CALDESC:Events for Food Industry Executive
BEGIN:VTIMEZONE
TZID:America/Los_Angeles
BEGIN:DAYLIGHT
TZOFFSETFROM:-0800
TZOFFSETTO:-0700
TZNAME:PDT
DTSTART:20210314T100000
END:DAYLIGHT
BEGIN:STANDARD
TZOFFSETFROM:-0700
TZOFFSETTO:-0800
TZNAME:PST
DTSTART:20211107T090000
END:STANDARD
END:VTIMEZONE
BEGIN:VEVENT
DTSTART;TZID=America/Los_Angeles:20210413T090000
DTEND;TZID=America/Los_Angeles:20210413T100000
DTSTAMP:20210729T043728
CREATED:20210412T170740Z
LAST-MODIFIED:20210412T170740Z
UID:13812-1618304400-1618308000@foodindustryexecutive.com
SUMMARY:Introduction to the Sustainable Livestock Systems Collaborative at Colorado State University
DESCRIPTION:Dr. Kim Stackhouse-Lawson\, Director of the Colorado State Sustainable Livestock Systems Collaborative\, will discuss the program and how it may impact sustainability and animal health.
URL:https://foodindustryexecutive.com/food-industry-webinar/introduction-to-the-sustainable-livestock-systems-collaborative-at-colorado-state-university/
END:VEVENT
END:VCALENDAR