BEGIN:VCALENDAR
VERSION:2.0
PRODID:-//Food Industry Executive - ECPv6.15.20//NONSGML v1.0//EN
CALSCALE:GREGORIAN
METHOD:PUBLISH
X-WR-CALNAME:Food Industry Executive
X-ORIGINAL-URL:https://foodindustryexecutive.com
X-WR-CALDESC:Events for Food Industry Executive
REFRESH-INTERVAL;VALUE=DURATION:PT1H
X-Robots-Tag:noindex
X-PUBLISHED-TTL:PT1H
BEGIN:VTIMEZONE
TZID:America/New_York
BEGIN:DAYLIGHT
TZOFFSETFROM:-0500
TZOFFSETTO:-0400
TZNAME:EDT
DTSTART:20200308T070000
END:DAYLIGHT
BEGIN:STANDARD
TZOFFSETFROM:-0400
TZOFFSETTO:-0500
TZNAME:EST
DTSTART:20201101T060000
END:STANDARD
BEGIN:DAYLIGHT
TZOFFSETFROM:-0500
TZOFFSETTO:-0400
TZNAME:EDT
DTSTART:20210314T070000
END:DAYLIGHT
BEGIN:STANDARD
TZOFFSETFROM:-0400
TZOFFSETTO:-0500
TZNAME:EST
DTSTART:20211107T060000
END:STANDARD
BEGIN:DAYLIGHT
TZOFFSETFROM:-0500
TZOFFSETTO:-0400
TZNAME:EDT
DTSTART:20220313T070000
END:DAYLIGHT
BEGIN:STANDARD
TZOFFSETFROM:-0400
TZOFFSETTO:-0500
TZNAME:EST
DTSTART:20221106T060000
END:STANDARD
END:VTIMEZONE
BEGIN:VEVENT
DTSTART;TZID=America/New_York:20210713T120000
DTEND;TZID=America/New_York:20210713T130000
DTSTAMP:20260424T164320
CREATED:20210624T230300Z
LAST-MODIFIED:20210624T230300Z
UID:14457-1626177600-1626181200@foodindustryexecutive.com
SUMMARY:Webinar: Transform Your Organization to EHS 4.0 with Digital Innovation
DESCRIPTION:It’s not at all surprising that COVID-19 has brought much attention to Environment\, Health and Safety in the workplace given we have been dealing with a major health crisis for more than a year now. Safety is certainly of even greater concern for organizations and their people.  A more interesting and perhaps encouraging outcome is  that companies have really stepped up their Industrial Transformation (IX) initiatives\, incorporating EHS into their strategies: EHS 4.0. \nJoin LNS Research Analyst\, Peter Bussey\, and EHS Today as we explore EHS 4.0 in a very informative live webcast – sponsored by Benchmark ESG | Gensuite – on this next generation of Environment\, Health and Safety. \nIn this webcast\, Bussey will address what EHS 4.0 is\, why you should be embracing it\, and what significant ROI it brings to operational performance and improvement.  In addition\, he will examine how industry leaders are applying IX digital innovations to EHS to drive safety\, risk\, and sustainability performance improvement across operations and the enterprise. \nBased on an LNS Research global survey of EHS\, operational\, and management executives\, you’ll discover: \n\nWhat EHS 4.0 is NOT.\nWhy you need EHS 4.0 and what business drivers are at its foundation.\nWhich two dominant\, global macro trends are driving EHS 4.0.\nWhat thorny barriers persist in EHS and how you can deliver more strategic business value.\nWhat Industrial Transformation (IX) Leaders are six times more likely to do in EHS than Followers.\nHow you can maximize your ROI with EHS 4.0.\n\nJoin LNS Research\, EHS Today\, and Benchmark ESG | Gensuite for this helpful webcast and begin driving your own EHS 4.0 strategy. \nRegister here.
URL:https://foodindustryexecutive.com/food-industry-webinar/webinar-transform-your-organization-to-ehs-4-0-with-digital-innovation/
ATTACH;FMTTYPE=image/png:https://foodindustryexecutive.com/wp-content/uploads/2021/06/EHS-Today-logo.png
END:VEVENT
END:VCALENDAR