BEGIN:VCALENDAR
VERSION:2.0
PRODID:-//Food Industry Executive - ECPv6.15.20//NONSGML v1.0//EN
CALSCALE:GREGORIAN
METHOD:PUBLISH
X-WR-CALNAME:Food Industry Executive
X-ORIGINAL-URL:https://foodindustryexecutive.com
X-WR-CALDESC:Events for Food Industry Executive
REFRESH-INTERVAL;VALUE=DURATION:PT1H
X-Robots-Tag:noindex
X-PUBLISHED-TTL:PT1H
BEGIN:VTIMEZONE
TZID:Europe/London
BEGIN:DAYLIGHT
TZOFFSETFROM:+0000
TZOFFSETTO:+0100
TZNAME:BST
DTSTART:20200329T010000
END:DAYLIGHT
BEGIN:STANDARD
TZOFFSETFROM:+0100
TZOFFSETTO:+0000
TZNAME:GMT
DTSTART:20201025T010000
END:STANDARD
BEGIN:DAYLIGHT
TZOFFSETFROM:+0000
TZOFFSETTO:+0100
TZNAME:BST
DTSTART:20210328T010000
END:DAYLIGHT
BEGIN:STANDARD
TZOFFSETFROM:+0100
TZOFFSETTO:+0000
TZNAME:GMT
DTSTART:20211031T010000
END:STANDARD
BEGIN:DAYLIGHT
TZOFFSETFROM:+0000
TZOFFSETTO:+0100
TZNAME:BST
DTSTART:20220327T010000
END:DAYLIGHT
BEGIN:STANDARD
TZOFFSETFROM:+0100
TZOFFSETTO:+0000
TZNAME:GMT
DTSTART:20221030T010000
END:STANDARD
END:VTIMEZONE
BEGIN:VEVENT
DTSTART;TZID=Europe/London:20210906T100000
DTEND;TZID=Europe/London:20210906T110000
DTSTAMP:20260421T175420
CREATED:20210827T021907Z
LAST-MODIFIED:20210827T021907Z
UID:14894-1630922400-1630926000@foodindustryexecutive.com
SUMMARY:Webinar: Natasha's Law- New Allergen Legislation
DESCRIPTION:Governments across the UK have introduced new legislation referred to as ‘Natasha’s Law’. From 1 October 2021 any food business selling pre-packed for direct sale (PPDS) food will have to include a full ingredients list on product labels with allergenic ingredients emphasised. \nThis webinar intends to provide businesses with a better understanding of the new allergen labelling changes that will help protect food hypersensitive consumers through the requirement for potentially life-saving allergen information. The session will explain who is affected by the new law\, how it impacts businesses and what they need to ensure they are prepared. \nThis event will also give regulators more information on how to support businesses through the transition and ensure they are compliant\, and will tackle the following questions \n\nWhat is the definition of pre-packed for direct sale (PPDS)?\nHow does it affect food businesses?\nWhat do food businesses need to do to prepare?\n\nRegister here.
URL:https://foodindustryexecutive.com/food-industry-webinar/webinar-natashas-law-new-allergen-legislation/
CATEGORIES:Food Safety
END:VEVENT
END:VCALENDAR