BEGIN:VCALENDAR
VERSION:2.0
PRODID:-//Food Industry Executive - ECPv6.15.20//NONSGML v1.0//EN
CALSCALE:GREGORIAN
METHOD:PUBLISH
X-WR-CALNAME:Food Industry Executive
X-ORIGINAL-URL:https://foodindustryexecutive.com
X-WR-CALDESC:Events for Food Industry Executive
REFRESH-INTERVAL;VALUE=DURATION:PT1H
X-Robots-Tag:noindex
X-PUBLISHED-TTL:PT1H
BEGIN:VTIMEZONE
TZID:America/Los_Angeles
BEGIN:DAYLIGHT
TZOFFSETFROM:-0800
TZOFFSETTO:-0700
TZNAME:PDT
DTSTART:20220313T100000
END:DAYLIGHT
BEGIN:STANDARD
TZOFFSETFROM:-0700
TZOFFSETTO:-0800
TZNAME:PST
DTSTART:20221106T090000
END:STANDARD
BEGIN:DAYLIGHT
TZOFFSETFROM:-0800
TZOFFSETTO:-0700
TZNAME:PDT
DTSTART:20230312T100000
END:DAYLIGHT
BEGIN:STANDARD
TZOFFSETFROM:-0700
TZOFFSETTO:-0800
TZNAME:PST
DTSTART:20231105T090000
END:STANDARD
BEGIN:DAYLIGHT
TZOFFSETFROM:-0800
TZOFFSETTO:-0700
TZNAME:PDT
DTSTART:20240310T100000
END:DAYLIGHT
BEGIN:STANDARD
TZOFFSETFROM:-0700
TZOFFSETTO:-0800
TZNAME:PST
DTSTART:20241103T090000
END:STANDARD
END:VTIMEZONE
BEGIN:VEVENT
DTSTART;TZID=America/Los_Angeles:20230911T090000
DTEND;TZID=America/Los_Angeles:20230911T180000
DTSTAMP:20260419T103634
CREATED:20230530T194639Z
LAST-MODIFIED:20230531T215131Z
UID:21185-1694422800-1694455200@foodindustryexecutive.com
SUMMARY:HACCP Certified Food Safety
DESCRIPTION:Register for the webinar here \nFrom COS Training Resource Center: \nHACCP is a management system in which food safety is addressed through the analysis and control of biological\, chemical\, and physical hazards from raw material production\, procurement and handling\, to manufacturing\, distribution and consumption of the finished product. \nHACCP is designed for use in all segments of the food industry from growing\, harvesting\, processing\, manufacturing\, distributing\, and merchandising to preparing food for consumption. Prerequisite programs such as current Good Manufacturing Practices (cGMPs) are an essential foundation for the development and implementation of successful HACCP plans. \nFood safety systems based on the HACCP principles have been successfully applied in food processing plants\, retail food stores\, and food service operations. The seven principles of HACCP have been universally accepted by government agencies\, trade associations and the food industry around the world. \nParticipants will learn how to identify food safety hazards\, establish control measures\, limits and monitoring procedures\, write and update a HACCP plan\, document and verify results and to prepare for audits. This training can be customized to fit the needs and current systems of your organization. We can deliver this training at your location or in our facilities. \nThis class is accredited by the International HACCP Alliance.​\n\nTopics Covered: \n\nIntroduction to HACCP\nPre-Requisite Programs\nHazard Identification\nPreliminary Steps\nHazard Analysis\nCritical Control Points\nCritical Limits\nMonitoring\nCorrective Action\nVerification ad Validation\nRecordkeeping\n\nRegister here.
URL:https://foodindustryexecutive.com/food-industry-webinar/haccp-certified-food-safety/
CATEGORIES:Food Safety
ATTACH;FMTTYPE=image/png:https://foodindustryexecutive.com/wp-content/uploads/2023/05/COS-Training-Resource-Center-1.png
END:VEVENT
END:VCALENDAR