BEGIN:VCALENDAR
VERSION:2.0
PRODID:-//Food Industry Executive - ECPv6.15.20//NONSGML v1.0//EN
CALSCALE:GREGORIAN
METHOD:PUBLISH
X-ORIGINAL-URL:https://foodindustryexecutive.com
X-WR-CALDESC:Events for Food Industry Executive
REFRESH-INTERVAL;VALUE=DURATION:PT1H
X-Robots-Tag:noindex
X-PUBLISHED-TTL:PT1H
BEGIN:VTIMEZONE
TZID:America/New_York
BEGIN:DAYLIGHT
TZOFFSETFROM:-0500
TZOFFSETTO:-0400
TZNAME:EDT
DTSTART:20220313T070000
END:DAYLIGHT
BEGIN:STANDARD
TZOFFSETFROM:-0400
TZOFFSETTO:-0500
TZNAME:EST
DTSTART:20221106T060000
END:STANDARD
BEGIN:DAYLIGHT
TZOFFSETFROM:-0500
TZOFFSETTO:-0400
TZNAME:EDT
DTSTART:20230312T070000
END:DAYLIGHT
BEGIN:STANDARD
TZOFFSETFROM:-0400
TZOFFSETTO:-0500
TZNAME:EST
DTSTART:20231105T060000
END:STANDARD
BEGIN:DAYLIGHT
TZOFFSETFROM:-0500
TZOFFSETTO:-0400
TZNAME:EDT
DTSTART:20240310T070000
END:DAYLIGHT
BEGIN:STANDARD
TZOFFSETFROM:-0400
TZOFFSETTO:-0500
TZNAME:EST
DTSTART:20241103T060000
END:STANDARD
END:VTIMEZONE
BEGIN:VEVENT
DTSTART;TZID=America/New_York:20230920T130000
DTEND;TZID=America/New_York:20230920T140000
DTSTAMP:20260419T132503
CREATED:20230918T190158Z
LAST-MODIFIED:20230918T190158Z
UID:22246-1695214800-1695218400@foodindustryexecutive.com
SUMMARY:Everything You Need to Know About GFSI Training Requirements … in 30 Minutes or Less
DESCRIPTION:Register for the webinar here \nFrom Intertek Alchemy: \nThe Global Food Safety Initiative (GFSI) has a variety of Certification Program Owners (CPO) to choose from\, and even more requirements within your selected CPO to meet\, before you can proudly share you are GFSI certified with your customers. Of the requirements across CPOs\, you’ll find each includes a section on the importance of employee training in your food safety program. \nWhether you are creating or making improvements to your food safety training program to meet or maintain GFSI Certification\, this webinar is for you. We invite you to join Laura Dunn Nelson\, prior member of the GFSI Food Safety Culture Technical Working Group\, as she: \n• Breaks down the GFSI certification requirements for employee training\, across all the top Certification Program Owners (CPOs) \n• Discusses how to meet each of the requirements represented by the top CPOs \n• Provides resources to help you build a GFSI-based food safety training program both efficiently & effectively \nRegister here.
URL:https://foodindustryexecutive.com/food-industry-webinar/everything-you-need-to-know-about-gfsi-training-requirements-in-30-minutes-or-less/
CATEGORIES:Food Safety
ATTACH;FMTTYPE=image/png:https://foodindustryexecutive.com/wp-content/uploads/2023/09/intertek-alchemy-logo.png
END:VEVENT
END:VCALENDAR