BEGIN:VCALENDAR
VERSION:2.0
PRODID:-//Food Industry Executive - ECPv6.15.20//NONSGML v1.0//EN
CALSCALE:GREGORIAN
METHOD:PUBLISH
X-WR-CALNAME:Food Industry Executive
X-ORIGINAL-URL:https://foodindustryexecutive.com
X-WR-CALDESC:Events for Food Industry Executive
REFRESH-INTERVAL;VALUE=DURATION:PT1H
X-Robots-Tag:noindex
X-PUBLISHED-TTL:PT1H
BEGIN:VTIMEZONE
TZID:America/Detroit
BEGIN:DAYLIGHT
TZOFFSETFROM:-0500
TZOFFSETTO:-0400
TZNAME:EDT
DTSTART:20240310T070000
END:DAYLIGHT
BEGIN:STANDARD
TZOFFSETFROM:-0400
TZOFFSETTO:-0500
TZNAME:EST
DTSTART:20241103T060000
END:STANDARD
BEGIN:DAYLIGHT
TZOFFSETFROM:-0500
TZOFFSETTO:-0400
TZNAME:EDT
DTSTART:20250309T070000
END:DAYLIGHT
BEGIN:STANDARD
TZOFFSETFROM:-0400
TZOFFSETTO:-0500
TZNAME:EST
DTSTART:20251102T060000
END:STANDARD
BEGIN:DAYLIGHT
TZOFFSETFROM:-0500
TZOFFSETTO:-0400
TZNAME:EDT
DTSTART:20260308T070000
END:DAYLIGHT
BEGIN:STANDARD
TZOFFSETFROM:-0400
TZOFFSETTO:-0500
TZNAME:EST
DTSTART:20261101T060000
END:STANDARD
END:VTIMEZONE
BEGIN:VEVENT
DTSTART;TZID=America/Detroit:20250520T110000
DTEND;TZID=America/Detroit:20250520T120000
DTSTAMP:20260421T101253
CREATED:20250430T080114Z
LAST-MODIFIED:20250430T080114Z
UID:26454-1747738800-1747742400@foodindustryexecutive.com
SUMMARY:Feeding Pets Like Family: Challenges in Emerging Pet Food Trends
DESCRIPTION:Register here \nThe pet food market has evolved far beyond traditional kibble and canned food. Today’s consumers increasingly demand diets for their pets to mirror their own preferences\, with trends such as freeze-dried and raw food leading the way. But what does “quality” truly entail in this rapidly evolving sector\, and how can pet food brands effectively showcase it? Whether launching new products or expanding existing lines\, pet food manufacturers face challenges around quality assurance\, safety compliance and regulatory navigation. Join our expert speakers\, Jennifer Lott\, Technical Development Director at SGS North America; Kaiti Valm\, Program Manager at SGS Nutrasource; and Jessica Dyszel\, Partner at House Richter\, as they delve into the latest trends\, consumer expectations and proven strategies to demonstrate quality and compliance. Don’t miss this chance to stay ahead of the pack! \nLearning Points:\n1. Emerging Trends in Pet Food: Navigating the consumer shift toward freeze-dried\, raw diets and other innovative products.\n2. Consumer Insights and Market Drivers: Discovering what today’s pet owners truly prioritize when selecting pet foods.\n3. Risk Management Essentials: Addressing microbiological testing\, food safety measures\, and regulatory compliance.\n4. Defining and Demonstrating Quality: Leveraging transparency\, responsible ingredient sourcing and certifications to differentiate your brand. \nThis webinar is sponsored by SGS and presented by Petfood Industry.
URL:https://foodindustryexecutive.com/food-industry-webinar/feeding-pets-like-family-challenges-in-emerging-pet-food-trends/
CATEGORIES:Food Safety,Manufacturing,Processing
ATTACH;FMTTYPE=image/png:https://foodindustryexecutive.com/wp-content/uploads/2024/04/Petfood-industry-1.png
END:VEVENT
END:VCALENDAR