BEGIN:VCALENDAR
VERSION:2.0
PRODID:-//Food Industry Executive - ECPv6.15.20//NONSGML v1.0//EN
CALSCALE:GREGORIAN
METHOD:PUBLISH
X-WR-CALNAME:Food Industry Executive
X-ORIGINAL-URL:https://foodindustryexecutive.com
X-WR-CALDESC:Events for Food Industry Executive
REFRESH-INTERVAL;VALUE=DURATION:PT1H
X-Robots-Tag:noindex
X-PUBLISHED-TTL:PT1H
BEGIN:VTIMEZONE
TZID:America/Detroit
BEGIN:DAYLIGHT
TZOFFSETFROM:-0500
TZOFFSETTO:-0400
TZNAME:EDT
DTSTART:20230312T070000
END:DAYLIGHT
BEGIN:STANDARD
TZOFFSETFROM:-0400
TZOFFSETTO:-0500
TZNAME:EST
DTSTART:20231105T060000
END:STANDARD
BEGIN:DAYLIGHT
TZOFFSETFROM:-0500
TZOFFSETTO:-0400
TZNAME:EDT
DTSTART:20240310T070000
END:DAYLIGHT
BEGIN:STANDARD
TZOFFSETFROM:-0400
TZOFFSETTO:-0500
TZNAME:EST
DTSTART:20241103T060000
END:STANDARD
BEGIN:DAYLIGHT
TZOFFSETFROM:-0500
TZOFFSETTO:-0400
TZNAME:EDT
DTSTART:20250309T070000
END:DAYLIGHT
BEGIN:STANDARD
TZOFFSETFROM:-0400
TZOFFSETTO:-0500
TZNAME:EST
DTSTART:20251102T060000
END:STANDARD
END:VTIMEZONE
BEGIN:VEVENT
DTSTART;TZID=America/Detroit:20241023T130000
DTEND;TZID=America/Detroit:20241023T140000
DTSTAMP:20260425T064153
CREATED:20241009T121024Z
LAST-MODIFIED:20241009T121024Z
UID:25018-1729688400-1729692000@foodindustryexecutive.com
SUMMARY:Powerful Prebiotics: Weaving Fiber Into Better-for-You Benefits
DESCRIPTION:Register Here \nPrebiotic fibers are key ingredients for digestive health and immunity. Fibers such as oligosaccharides\, polysaccharides\, acacia gum\, pectin\, cellulose\, and maltodextrin are critical sources of prebiotic fiber that can feed probiotic microbes. These and other prebiotic fibers are appearing in an increasing variety of foods and beverages—ranging from familiar cultured dairy and dairy analogs to soft drinks and even alcohol beverages. \nListen in as dietary fiber\, fermentation\, and immunity expert Dana McCurdy\, PhD\, describes how consumption of prebiotic fibers bolsters gut health and supports overall well-being\, including cognitive health and mood. \nWebinar attendees will learn: \n\nKey prebiotic fibers and their roles in digestive health\nMechanisms by which prebiotics enhance gut health and immunity\nBroader health benefits of prebiotic fiber consumption\, including its role in supporting cognitive health and mood\nApplications of prebiotic fibers in various foods and beverages and their functional roles
URL:https://foodindustryexecutive.com/food-industry-webinar/powerful-prebiotics-weaving-fiber-into-better-for-you-benefits/
CATEGORIES:Health and Safety,Manufacturing
ATTACH;FMTTYPE=image/jpeg:https://foodindustryexecutive.com/wp-content/uploads/2024/10/prepared-foods.jpg
END:VEVENT
END:VCALENDAR