BEGIN:VCALENDAR
VERSION:2.0
PRODID:-//Food Industry Executive - ECPv6.15.20//NONSGML v1.0//EN
CALSCALE:GREGORIAN
METHOD:PUBLISH
X-WR-CALNAME:Food Industry Executive
X-ORIGINAL-URL:https://foodindustryexecutive.com
X-WR-CALDESC:Events for Food Industry Executive
REFRESH-INTERVAL;VALUE=DURATION:PT1H
X-Robots-Tag:noindex
X-PUBLISHED-TTL:PT1H
BEGIN:VTIMEZONE
TZID:America/Detroit
BEGIN:DAYLIGHT
TZOFFSETFROM:-0500
TZOFFSETTO:-0400
TZNAME:EDT
DTSTART:20240310T070000
END:DAYLIGHT
BEGIN:STANDARD
TZOFFSETFROM:-0400
TZOFFSETTO:-0500
TZNAME:EST
DTSTART:20241103T060000
END:STANDARD
BEGIN:DAYLIGHT
TZOFFSETFROM:-0500
TZOFFSETTO:-0400
TZNAME:EDT
DTSTART:20250309T070000
END:DAYLIGHT
BEGIN:STANDARD
TZOFFSETFROM:-0400
TZOFFSETTO:-0500
TZNAME:EST
DTSTART:20251102T060000
END:STANDARD
BEGIN:DAYLIGHT
TZOFFSETFROM:-0500
TZOFFSETTO:-0400
TZNAME:EDT
DTSTART:20260308T070000
END:DAYLIGHT
BEGIN:STANDARD
TZOFFSETFROM:-0400
TZOFFSETTO:-0500
TZNAME:EST
DTSTART:20261101T060000
END:STANDARD
END:VTIMEZONE
BEGIN:VEVENT
DTSTART;TZID=America/Detroit:20250730T120000
DTEND;TZID=America/Detroit:20250730T130000
DTSTAMP:20260420T074417
CREATED:20250730T082712Z
LAST-MODIFIED:20250730T082712Z
UID:27084-1753876800-1753880400@foodindustryexecutive.com
SUMMARY:Transform Your Plant Operations with Real-Time Data and Connected Teams
DESCRIPTION:Register here \nManufacturing plants are facing more pressure than ever: high levels of scrap\, unexpected downtime\, staff turnover\, increasingly complex audits\, and a fragmented operation caused by teams that don’t communicate effectively. \nThe result? Disconnected processes\, poor visibility\, and misaligned equipment\, resulting in lost efficiency. \nIn this webinar\, you’ll discover how Redzone is changing the game: \n\nTurn data into real-time predictions\, helping prevent problems before they occur\nMeasure your OEE in real time\nBreak down operational barriers and foster a culture of collaboration\nEmpower operators through accessible and easy-to-use technology\nReduce scrap and avoid unscheduled downtime to increase the availability of your equipment\n\nAnd most importantly: the results speak for themselves. \n+26% improvement in productivity \n+81% increase in employee engagement \n–35% reduction in employee turnover \nAdditionally\, we’ll feature a live testimonial from Daniel Bellot of Winchester Interconnect\, a plant located in Empalme\, Sonora\, dedicated to the manufacture of high-performance cables and connectors. He will share his real-life experience using Redzone in his daily operations. \nThis event is for plant and operations managers and directors\, and continuous improvement leaders looking for practical\, accessible solutions with immediate impact on the production floor. \nRegister now and transform your operations with data\, artificial intelligence\, and a connected workforce.
URL:https://foodindustryexecutive.com/food-industry-webinar/transform-your-plant-operations-with-real-time-data-and-connected-teams/
CATEGORIES:Manufacturing,Technology
ATTACH;FMTTYPE=image/png:https://foodindustryexecutive.com/wp-content/uploads/2025/06/Redzone.png
END:VEVENT
END:VCALENDAR