BEGIN:VCALENDAR
VERSION:2.0
PRODID:-//Food Industry Executive - ECPv6.15.20//NONSGML v1.0//EN
CALSCALE:GREGORIAN
METHOD:PUBLISH
X-WR-CALNAME:Food Industry Executive
X-ORIGINAL-URL:https://foodindustryexecutive.com
X-WR-CALDESC:Events for Food Industry Executive
REFRESH-INTERVAL;VALUE=DURATION:PT1H
X-Robots-Tag:noindex
X-PUBLISHED-TTL:PT1H
BEGIN:VTIMEZONE
TZID:America/Detroit
BEGIN:DAYLIGHT
TZOFFSETFROM:-0500
TZOFFSETTO:-0400
TZNAME:EDT
DTSTART:20250309T070000
END:DAYLIGHT
BEGIN:STANDARD
TZOFFSETFROM:-0400
TZOFFSETTO:-0500
TZNAME:EST
DTSTART:20251102T060000
END:STANDARD
BEGIN:DAYLIGHT
TZOFFSETFROM:-0500
TZOFFSETTO:-0400
TZNAME:EDT
DTSTART:20260308T070000
END:DAYLIGHT
BEGIN:STANDARD
TZOFFSETFROM:-0400
TZOFFSETTO:-0500
TZNAME:EST
DTSTART:20261101T060000
END:STANDARD
BEGIN:DAYLIGHT
TZOFFSETFROM:-0500
TZOFFSETTO:-0400
TZNAME:EDT
DTSTART:20270314T070000
END:DAYLIGHT
BEGIN:STANDARD
TZOFFSETFROM:-0400
TZOFFSETTO:-0500
TZNAME:EST
DTSTART:20271107T060000
END:STANDARD
END:VTIMEZONE
BEGIN:VEVENT
DTSTART;TZID=America/Detroit:20260402T100000
DTEND;TZID=America/Detroit:20260402T110000
DTSTAMP:20260424T111550
CREATED:20260318T143531Z
LAST-MODIFIED:20260318T143531Z
UID:28501-1775124000-1775127600@foodindustryexecutive.com
SUMMARY:Collaboration: the key to efficiency in petfood production
DESCRIPTION:Register here \nIn pet food manufacturing\, even a small formulation change can impact nutrient compliance\, labeling accuracy\, raw material costs\, and overall financial performance. At the same time\, pet manufacturers face growing pressure to bring products to market faster. Yet many companies still rely on disconnected systems that limit transparency\, slow decision-making\, and reduce control across departments. This exclusive webinar explores how structured collaboration across the entire product lifecycle — from concept through commercialization — can strengthen data integrity\, improve governance\, and accelerate time to market without compromising quality or compliance. Through practical examples\, Carmen Sook\, Director of Customer Solutions\, BESTMIX Software\, explains how aligned workflows enhance traceability\, improve cost and raw material management\, and enable faster\, more informed decisions while supporting structured approvals across teams and production sites. \nThis webinar will broadcast at 9:00 AM CDT (Chicago) / 3:00 PM BST (London) / 10:00 PM CST (Beijing). \nWHAT YOU’LL LEARN: \n\nHow siloed processes impact formulation accuracy\, cost control\, compliance risk and operational efficiency.\nHow to create a reliable single source of truth across formulation\, quality and labeling teams.\nHow structured change management improves traceability and reduces costly inconsistencies.\nHow connected workflows enable faster\, more accurate data-driven decision-making.\nHow cloud-based possibility improves visibility and coordination across multiple sites in real time.\n\nThis webinar is sponsored by BESTMIX Software and presented by Petfood Industry.
URL:https://foodindustryexecutive.com/food-industry-webinar/collaboration-the-key-to-efficiency-in-petfood-production/
CATEGORIES:Manufacturing
ATTACH;FMTTYPE=image/png:https://foodindustryexecutive.com/wp-content/uploads/2024/04/Petfood-industry-1.png
END:VEVENT
END:VCALENDAR