BEGIN:VCALENDAR
VERSION:2.0
PRODID:-//Food Industry Executive - ECPv6.15.20//NONSGML v1.0//EN
CALSCALE:GREGORIAN
METHOD:PUBLISH
X-ORIGINAL-URL:https://foodindustryexecutive.com
X-WR-CALDESC:Events for Food Industry Executive
REFRESH-INTERVAL;VALUE=DURATION:PT1H
X-Robots-Tag:noindex
X-PUBLISHED-TTL:PT1H
BEGIN:VTIMEZONE
TZID:America/New_York
BEGIN:DAYLIGHT
TZOFFSETFROM:-0500
TZOFFSETTO:-0400
TZNAME:EDT
DTSTART:20220313T070000
END:DAYLIGHT
BEGIN:STANDARD
TZOFFSETFROM:-0400
TZOFFSETTO:-0500
TZNAME:EST
DTSTART:20221106T060000
END:STANDARD
BEGIN:DAYLIGHT
TZOFFSETFROM:-0500
TZOFFSETTO:-0400
TZNAME:EDT
DTSTART:20230312T070000
END:DAYLIGHT
BEGIN:STANDARD
TZOFFSETFROM:-0400
TZOFFSETTO:-0500
TZNAME:EST
DTSTART:20231105T060000
END:STANDARD
BEGIN:DAYLIGHT
TZOFFSETFROM:-0500
TZOFFSETTO:-0400
TZNAME:EDT
DTSTART:20240310T070000
END:DAYLIGHT
BEGIN:STANDARD
TZOFFSETFROM:-0400
TZOFFSETTO:-0500
TZNAME:EST
DTSTART:20241103T060000
END:STANDARD
END:VTIMEZONE
BEGIN:VEVENT
DTSTART;TZID=America/New_York:20230713T120000
DTEND;TZID=America/New_York:20230713T130000
DTSTAMP:20260419T132029
CREATED:20230630T193848Z
LAST-MODIFIED:20230630T193848Z
UID:21530-1689249600-1689253200@foodindustryexecutive.com
SUMMARY:Navigating CPG Sales in Times of Economic Uncertainty and Inflation
DESCRIPTION:Register for the webinar here \nFrom Branchfood: \n\n\nEconomic uncertainty and inflation are significantly impacting consumer behavior\, posing new sales obstacles for consumer product companies of all sizes. CPG leaders ought to adapt their sales approach and employ innovative strategies to navigate this dynamic environment and its challenges. \nJoin Branchfood and Trax Retail in their upcoming seminar for actionable insights into navigating sales and driving growth. If you are a sales\, marketing\, or business development professional in the consumer packaged goods industry\, don’t miss this opportunity to understand the impact of the economy on your business and develop strategies to grow sales. \nWe will cover a range of topics\, including: \n\nUnderstanding the current economic landscape and its impact on CPG sales\nAdapting sales strategies to changing consumer behavior and purchasing power\nBuilding strong relationships with retailers and distributors\nOptimizing product assortments to meet evolving consumer needs\nFormulating effective pricing and promotional strategies\nLeveraging data and analytics for informed sales decision-making\nDiversifying sales channels to mitigate risks\n\nThis seminar is free to attend but registration is required. Sign up to secure your spot and receive the Zoom link/recording. \n\n\n\n\nSpeakers: \n\nKevin Mannering\, Partner and Chief Product Officer\, Rodeo CPG\nKayla Castañeda\, Co-Founder and Chief Executive Officer\, Agua Bonita\nKaitlin Mogentale\, Founder and Chief Executive Officer\, Pulp Pantry\nGeorgios Tzafis\, VP Emerging and Mid Cap CPG\, Trax Retail\nAmy Howlett\, Director\, Global Investment Banking\, Bank of America\n\nRegister here.
URL:https://foodindustryexecutive.com/food-industry-webinar/navigating-cpg-sales-in-times-of-economic-uncertainty-and-inflation/
ATTACH;FMTTYPE=image/png:https://foodindustryexecutive.com/wp-content/uploads/2023/06/Branchfood-logo-1.png
END:VEVENT
BEGIN:VEVENT
DTSTART;TZID=America/New_York:20230719T113000
DTEND;TZID=America/New_York:20230719T113000
DTSTAMP:20260419T132029
CREATED:20230602T185801Z
LAST-MODIFIED:20230602T185801Z
UID:21245-1689766200-1689766200@foodindustryexecutive.com
SUMMARY:Compass Coffee Talk: Episode 33 - Ibraheem Basir
DESCRIPTION:Register for the webinar here \nFrom Compass Natural: \nJoin us as we chat with Ibraheem Basir\, the founder and CEO of A Dozen Cousins and founder of Project Potluck\, a 501c3 that provides a range of mentorship and education programming in support of its mission to help People of Color build successful companies and careers in the CPG industry. \nRegister here.
URL:https://foodindustryexecutive.com/food-industry-webinar/compass-coffee-talk-episode-33-ibraheem-basir/
ATTACH;FMTTYPE=image/png:https://foodindustryexecutive.com/wp-content/uploads/2023/06/Compass-Natural-Logo-1.png
END:VEVENT
BEGIN:VEVENT
DTSTART;TZID=America/New_York:20230720T130000
DTEND;TZID=America/New_York:20230720T140000
DTSTAMP:20260419T132029
CREATED:20230616T205836Z
LAST-MODIFIED:20230616T205836Z
UID:21437-1689858000-1689861600@foodindustryexecutive.com
SUMMARY:Taste Technologies That Can Help Industry Support the National Nutrition Strategy
DESCRIPTION:Register for the webinar here \nFrom Consumer Brands Association: \nThe FDA is currently exploring ways to empower consumers to select and have access to healthy food. The FDA’s labeling initiatives (Front-of-Pack nutrition labeling scheme and “healthy” claims) are intended to make it easier for consumers to quickly identify foods that are a part of a healthy eating pattern. Kerry is committed to helping industry improve key nutritional aspects of sweet and savory products through “Salt Perception” and “Sweet Optimization” programs\, as they believe taste and nutrition should not be mutually exclusive. This session offers a deep dive into how Kerry’s technologies can help improve your product’s nutritional profiles while continuing to delight consumers. \nRegister here.
URL:https://foodindustryexecutive.com/food-industry-webinar/taste-technologies-that-can-help-industry-support-the-national-nutrition-strategy/
ATTACH;FMTTYPE=image/png:https://foodindustryexecutive.com/wp-content/uploads/2023/06/CBA-logo.png
END:VEVENT
BEGIN:VEVENT
DTSTART;TZID=America/New_York:20230727T100000
DTEND;TZID=America/New_York:20230727T103000
DTSTAMP:20260419T132029
CREATED:20230726T193302Z
LAST-MODIFIED:20230726T193302Z
UID:21782-1690452000-1690453800@foodindustryexecutive.com
SUMMARY:Robotic Floor Cleaning 101: Create a Safe\, Clean Environment and Significantly Reduce Costs
DESCRIPTION:Register for the webinar here \nFrom Next-Gen Supply Group: \nAre you interested in learning more about robotic floor cleaning? In this webinar\, you’ll learn the basics about what robotic floor cleaning is\, why it’s more important than ever\, plus the technology Next-Gen and Johnston\, Envoy Solutions Companies in partnership with Nilfisk has to offer\, including Li-ion battery options. You’ll also learn where robotic floor scrubbers work best and how to set up a demo for your facilities. The last 10 minutes will be open for Q&A. \nRegister here.
URL:https://foodindustryexecutive.com/food-industry-webinar/robotic-floor-cleaning-101-create-a-safe-clean-environment-and-significantly-reduce-costs/
ATTACH;FMTTYPE=image/png:https://foodindustryexecutive.com/wp-content/uploads/2023/07/Next-Gen-Supply-Group-1.png
END:VEVENT
BEGIN:VEVENT
DTSTART;TZID=America/New_York:20230727T130000
DTEND;TZID=America/New_York:20230727T130000
DTSTAMP:20260419T132029
CREATED:20230705T200956Z
LAST-MODIFIED:20230705T200956Z
UID:21558-1690462800-1690462800@foodindustryexecutive.com
SUMMARY:Unlocking the Power of Frontline Manufacturing Teams
DESCRIPTION:Register for the webinar here \nFrom QAD Redzone: \n\n\nIn today’s labor market\, people want to be a part of an organization that respects their ideas\, appreciates their efforts\, and gives them a voice.  \nBy doing so\, you can expect remarkable productivity\, culture\, and employee retention improvements!  \nBut don’t just take our word for it.  \nRegister for this panel discussion to hear from industry leaders Bizzy Coffee\, KIND\, and Noosa Yoghurt. They’ll share how they’ve transformed their organizations by empowering their frontline employees to work with purpose and win the day\, every day.  \nThis panel discussion will focus on strategies to drive change\, reinforce new behaviors\, and\, ultimately\, cultivate actions that lead teams to long-term success. \n\n\n\n\nRegister to learn how: \n\nEmpowering your frontline team impacts the overall operation\nDigital transformation can be easy and accessible for all\nReal-time visibility increases engagement\, collaboration\, and cross-team communication\n\nRegister here. \n\n\n 
URL:https://foodindustryexecutive.com/food-industry-webinar/unlocking-the-power-of-frontline-manufacturing-teams/
CATEGORIES:Manufacturing
ATTACH;FMTTYPE=image/png:https://foodindustryexecutive.com/wp-content/uploads/2023/07/QAD-redzone-logo-1.png
END:VEVENT
END:VCALENDAR