BEGIN:VCALENDAR
VERSION:2.0
PRODID:-//Food Industry Executive - ECPv6.15.20//NONSGML v1.0//EN
CALSCALE:GREGORIAN
METHOD:PUBLISH
X-ORIGINAL-URL:https://foodindustryexecutive.com
X-WR-CALDESC:Events for Food Industry Executive
REFRESH-INTERVAL;VALUE=DURATION:PT1H
X-Robots-Tag:noindex
X-PUBLISHED-TTL:PT1H
BEGIN:VTIMEZONE
TZID:America/Chicago
BEGIN:DAYLIGHT
TZOFFSETFROM:-0600
TZOFFSETTO:-0500
TZNAME:CDT
DTSTART:20220313T080000
END:DAYLIGHT
BEGIN:STANDARD
TZOFFSETFROM:-0500
TZOFFSETTO:-0600
TZNAME:CST
DTSTART:20221106T070000
END:STANDARD
BEGIN:DAYLIGHT
TZOFFSETFROM:-0600
TZOFFSETTO:-0500
TZNAME:CDT
DTSTART:20230312T080000
END:DAYLIGHT
BEGIN:STANDARD
TZOFFSETFROM:-0500
TZOFFSETTO:-0600
TZNAME:CST
DTSTART:20231105T070000
END:STANDARD
BEGIN:DAYLIGHT
TZOFFSETFROM:-0600
TZOFFSETTO:-0500
TZNAME:CDT
DTSTART:20240310T080000
END:DAYLIGHT
BEGIN:STANDARD
TZOFFSETFROM:-0500
TZOFFSETTO:-0600
TZNAME:CST
DTSTART:20241103T070000
END:STANDARD
END:VTIMEZONE
BEGIN:VTIMEZONE
TZID:America/New_York
BEGIN:DAYLIGHT
TZOFFSETFROM:-0500
TZOFFSETTO:-0400
TZNAME:EDT
DTSTART:20220313T070000
END:DAYLIGHT
BEGIN:STANDARD
TZOFFSETFROM:-0400
TZOFFSETTO:-0500
TZNAME:EST
DTSTART:20221106T060000
END:STANDARD
BEGIN:DAYLIGHT
TZOFFSETFROM:-0500
TZOFFSETTO:-0400
TZNAME:EDT
DTSTART:20230312T070000
END:DAYLIGHT
BEGIN:STANDARD
TZOFFSETFROM:-0400
TZOFFSETTO:-0500
TZNAME:EST
DTSTART:20231105T060000
END:STANDARD
BEGIN:DAYLIGHT
TZOFFSETFROM:-0500
TZOFFSETTO:-0400
TZNAME:EDT
DTSTART:20240310T070000
END:DAYLIGHT
BEGIN:STANDARD
TZOFFSETFROM:-0400
TZOFFSETTO:-0500
TZNAME:EST
DTSTART:20241103T060000
END:STANDARD
END:VTIMEZONE
BEGIN:VTIMEZONE
TZID:America/Los_Angeles
BEGIN:DAYLIGHT
TZOFFSETFROM:-0800
TZOFFSETTO:-0700
TZNAME:PDT
DTSTART:20220313T100000
END:DAYLIGHT
BEGIN:STANDARD
TZOFFSETFROM:-0700
TZOFFSETTO:-0800
TZNAME:PST
DTSTART:20221106T090000
END:STANDARD
BEGIN:DAYLIGHT
TZOFFSETFROM:-0800
TZOFFSETTO:-0700
TZNAME:PDT
DTSTART:20230312T100000
END:DAYLIGHT
BEGIN:STANDARD
TZOFFSETFROM:-0700
TZOFFSETTO:-0800
TZNAME:PST
DTSTART:20231105T090000
END:STANDARD
BEGIN:DAYLIGHT
TZOFFSETFROM:-0800
TZOFFSETTO:-0700
TZNAME:PDT
DTSTART:20240310T100000
END:DAYLIGHT
BEGIN:STANDARD
TZOFFSETFROM:-0700
TZOFFSETTO:-0800
TZNAME:PST
DTSTART:20241103T090000
END:STANDARD
END:VTIMEZONE
BEGIN:VEVENT
DTSTART;TZID=America/Chicago:20230810T100000
DTEND;TZID=America/Chicago:20230810T103000
DTSTAMP:20260419T103804
CREATED:20230726T202625Z
LAST-MODIFIED:20230726T202625Z
UID:21804-1691661600-1691663400@foodindustryexecutive.com
SUMMARY:Unlocking Double Digit Manufacturing Productivity Gains With a Connected Workforce
DESCRIPTION:Register for the webinar here \nFrom QAD Redzone: \nThe manufacturing and supply chain industry continues to face workforce challenges of satisfying demand and fueling growth. Now\, more than ever\, manufacturers need ways to improve productivity\, reduce waste\, and adhere to safety regulations. \nQAD Redzone’s #1 Connected Workforce Solution helps you do more with the same people and physical resources by unlocking additional capacity from your frontline teams and enjoying a cultural transformation in the process. \nJoin this interactive discussion to hear how QAD Redzone customer\, Nature’s Bakery\, have increased their overall productivity and transformed their shop floor culture with QAD Redzone’s Frontline Productivity and Compliance solutions \nYou’ll learn how to: \n\nUnlock additional capacity without adding people or equipment\nTake the risks out of quality and food safety compliance\nReduce waste and go 100% paperless\nRealize immediate productivity increases on average of 29% in just 90 days\n\nRegister for the webinar here. \n 
URL:https://foodindustryexecutive.com/food-industry-webinar/unlocking-double-digit-manufacturing-productivity-gains-with-a-connected-workforce/
CATEGORIES:Manufacturing
ATTACH;FMTTYPE=image/png:https://foodindustryexecutive.com/wp-content/uploads/2023/07/QAD-redzone-logo-2.png
END:VEVENT
BEGIN:VEVENT
DTSTART;TZID=America/New_York:20230810T140000
DTEND;TZID=America/New_York:20230810T150000
DTSTAMP:20260419T103804
CREATED:20230731T213608Z
LAST-MODIFIED:20230731T213608Z
UID:21850-1691676000-1691679600@foodindustryexecutive.com
SUMMARY:Marketing & Sales Uniting to Attain Peak Results
DESCRIPTION:Register for the webinar here \nFrom FPSA: \nAre your sales and marketing teams working in concert and at peak efficiency? Would you like increased sales and more robust marketing? Do you feel like your sales team is going in one direction while your marketing team is heading in another? FPSA is hosting this webinar with a marketing and sales professionals panel addressing many teams’ pain points. Howard Deskin\, WebStrategies (Moderator) \nPanelists: \n– Jennifer Fenimore\, Rubber Fab (Marketing & Management) \n– Jessica Gray\, Grote Company (Marketing) \n– Matt Hartman\, Blentech Corporation (Sales) \n– Kristin Harrison\, WebStrategies (Smarketing) \nRegister here. \n 
URL:https://foodindustryexecutive.com/food-industry-webinar/marketing-sales-uniting-to-attain-peak-results/
ATTACH;FMTTYPE=image/png:https://foodindustryexecutive.com/wp-content/uploads/2023/07/FPSA.png
END:VEVENT
BEGIN:VEVENT
DTSTART;TZID=America/Los_Angeles:20230822T083000
DTEND;TZID=America/Los_Angeles:20230822T083000
DTSTAMP:20260419T103804
CREATED:20230815T231625Z
LAST-MODIFIED:20230815T231625Z
UID:21976-1692693000-1692693000@foodindustryexecutive.com
SUMMARY:Expanding the Value of Your Industrial Data to Your Full Potential
DESCRIPTION:Register for the webinar here \nFrom AVEVA: \nThe volume of useful industrial data is exploding across organizations. With AVEVA™ PI System™ you already have access to contextualized information and can easily visualize and analyze events. What if you could extract even more value from your industrial data? \nJoin this webinar to learn how AVEVA PI System is evolving to become even better and how you can be ready to operate in a connected future ecosystem. \nIn this webinar\, you will learn: \n\nInsights on the strategy and evolution of AVEVA PI System\nFind out how to get more value of your industrial data\nLearn from real use cases to discover how you can leverage your investment in your data infrastructure\n\nRegister here. \n 
URL:https://foodindustryexecutive.com/food-industry-webinar/expanding-the-value-of-your-industrial-data-to-your-full-potential/
ATTACH;FMTTYPE=image/png:https://foodindustryexecutive.com/wp-content/uploads/2023/08/AVEVA-logo.png
END:VEVENT
BEGIN:VEVENT
DTSTART;TZID=America/New_York:20230829T100000
DTEND;TZID=America/New_York:20230829T110000
DTSTAMP:20260419T103804
CREATED:20230815T231155Z
LAST-MODIFIED:20230815T231155Z
UID:21974-1693303200-1693306800@foodindustryexecutive.com
SUMMARY:How to Save a Million on Your Packaging Costs
DESCRIPTION:Register for the webinar here \n\nFrom Mintec: \nIn April 2022\, an all-time high for many packaging commodity prices was reached. Since that price peak\, we have seen a downward price trend. This trend is likely to change soon and poorly prepared companies will waste money by not having the best possible hedging strategy in place. \nWhat can you do to save a million on your packaging costs? \nMintec are hosting a free webinar on August 29th where Chief Analyst\, Tom Bundgaard\, and Senior Analyst\, Jesper Christiansen\, will discuss: \n\nMacroeconomic development and impact on plastic resin prices.\nAn understanding of the current market situation.\nProduction\, supply\, and related impacts.\nExpected price developments for Plastic\, Paper and Metal commodities.\nQ&A session.\n\nPlease note that a replay will be available for registrants 24 hours after the webinar\, even if you cannot attend this live then it is important to register so you have access to the replay. Registrants will receive a link to watch the replay via email. \nRegister here.
URL:https://foodindustryexecutive.com/food-industry-webinar/how-to-save-a-million-on-your-packaging-costs/
ATTACH;FMTTYPE=image/png:https://foodindustryexecutive.com/wp-content/uploads/2023/08/mintec-logo.png
END:VEVENT
BEGIN:VEVENT
DTSTART;TZID=America/New_York:20230831T110000
DTEND;TZID=America/New_York:20230831T120000
DTSTAMP:20260419T103804
CREATED:20230817T002650Z
LAST-MODIFIED:20230817T002650Z
UID:21981-1693479600-1693483200@foodindustryexecutive.com
SUMMARY:The Top Trends in Digital Marketing: Consumer Goods 2023
DESCRIPTION:Register for the webinar here \nFrom Gartner: \nConsumer-products marketing budgets increased from 8% of total revenue in 2022 to 10.9% in 2023\, which\, according to the Gartner CMO Spend and Strategy Survey\, is the largest increase across industries. While promising\, hurdles remain for continued growth. Consumer behavior shifts attributed to a pending recession\, inflationary concerns\, rising health consciousness\, sustainability\, and demand for brand authenticity will challenge consumer product brands’ digital marketing efforts. To stay relevant in a highly competitive environment\, brands must keep informed on industry trends and behavioral shifts in a rapidly evolving digital landscape. This complimentary marketing webinar will explore consumer behaviors\, trends\, and best-in-class digital marketing that shape the consumer products industry and help chief marketing officers (CMOs) and digital marketing leaders refine their strategy for 2023 and beyond. \n\nUnderstand the best-in-class digital marketing strategies that are shaping the consumer product industry\nHear insights on how to meet the shift in consumer behavior in 2023 and beyond\nLearn how CMOs are prioritizing strategies\, channels and resources in budget constraints\n\nReturn to this web page to watch the webinar. Contact us at gartnerwebinars@gartner.com with questions about viewing this webinar. \nRegister here. \n 
URL:https://foodindustryexecutive.com/food-industry-webinar/the-top-trends-in-digital-marketing-consumer-goods-2023/
ATTACH;FMTTYPE=image/png:https://foodindustryexecutive.com/wp-content/uploads/2023/08/Gartner-logo-1.png
END:VEVENT
BEGIN:VEVENT
DTSTART;TZID=America/New_York:20230831T130000
DTEND;TZID=America/New_York:20230831T133000
DTSTAMP:20260419T103804
CREATED:20230822T214328Z
LAST-MODIFIED:20230822T214328Z
UID:22056-1693486800-1693488600@foodindustryexecutive.com
SUMMARY:Webinar: Packaging with Purpose
DESCRIPTION:Register for the webinar here \nFrom Waldner North America: \nWNA experts will take a deep dive into the three P’s — package\, process and product — and discuss how to run more sustainable food packaging operations. They will closely examine and provide guidance on how to reduce your environmental impact\, improve production efficiency and save costs! \nRegister here.
URL:https://foodindustryexecutive.com/food-industry-webinar/webinar-packaging-with-purpose/
ATTACH;FMTTYPE=image/png:https://foodindustryexecutive.com/wp-content/uploads/2023/08/waldner-logo.png
END:VEVENT
END:VCALENDAR