BEGIN:VCALENDAR
VERSION:2.0
PRODID:-//Food Industry Executive - ECPv6.15.20//NONSGML v1.0//EN
CALSCALE:GREGORIAN
METHOD:PUBLISH
X-WR-CALNAME:Food Industry Executive
X-ORIGINAL-URL:https://foodindustryexecutive.com
X-WR-CALDESC:Events for Food Industry Executive
REFRESH-INTERVAL;VALUE=DURATION:PT1H
X-Robots-Tag:noindex
X-PUBLISHED-TTL:PT1H
BEGIN:VTIMEZONE
TZID:America/Detroit
BEGIN:DAYLIGHT
TZOFFSETFROM:-0500
TZOFFSETTO:-0400
TZNAME:EDT
DTSTART:20250309T070000
END:DAYLIGHT
BEGIN:STANDARD
TZOFFSETFROM:-0400
TZOFFSETTO:-0500
TZNAME:EST
DTSTART:20251102T060000
END:STANDARD
BEGIN:DAYLIGHT
TZOFFSETFROM:-0500
TZOFFSETTO:-0400
TZNAME:EDT
DTSTART:20260308T070000
END:DAYLIGHT
BEGIN:STANDARD
TZOFFSETFROM:-0400
TZOFFSETTO:-0500
TZNAME:EST
DTSTART:20261101T060000
END:STANDARD
BEGIN:DAYLIGHT
TZOFFSETFROM:-0500
TZOFFSETTO:-0400
TZNAME:EDT
DTSTART:20270314T070000
END:DAYLIGHT
BEGIN:STANDARD
TZOFFSETFROM:-0400
TZOFFSETTO:-0500
TZNAME:EST
DTSTART:20271107T060000
END:STANDARD
END:VTIMEZONE
BEGIN:VEVENT
DTSTART;TZID=America/Detroit:20260429T140000
DTEND;TZID=America/Detroit:20260429T150000
DTSTAMP:20260424T151334
CREATED:20260420T082218Z
LAST-MODIFIED:20260420T082218Z
UID:28786-1777471200-1777474800@foodindustryexecutive.com
SUMMARY:2026 State of the Industry Series: Alcoholic Beverages
DESCRIPTION:Register here \nThe beverage alcohol market is experiencing a major shift in consumer preferences. To address this\, beer\, wine and spirits suppliers are developing new products that deliver what legal drinking age consumers want. In Beverage Industry’s annual State of the Industry: The Alcohol Beverage Market\, analysts S&D Insights LLC delve into these trends and how they’re shaping the industry. \nInsights provided will include: \n\nWhich innovations are driving beverage alcohol\nWhat impact tariffs could have on the markets\nWhat opportunities non-alcohol has provided the sectors\nHow much an effect cannabis is having on beverage alcohol
URL:https://foodindustryexecutive.com/food-industry-webinar/2026-state-of-the-industry-series-alcoholic-beverages/
CATEGORIES:Industry News and Analysis
ATTACH;FMTTYPE=image/png:https://foodindustryexecutive.com/wp-content/uploads/2025/03/Beverage-Industry.png
END:VEVENT
BEGIN:VEVENT
DTSTART;TZID=America/Detroit:20260506T140000
DTEND;TZID=America/Detroit:20260506T143000
DTSTAMP:20260424T151335
CREATED:20260420T092505Z
LAST-MODIFIED:20260420T092505Z
UID:28793-1778076000-1778077800@foodindustryexecutive.com
SUMMARY:Allergen Uncertainty: Risk Assessment\, Reference Doses\, and Codex Management Guidance
DESCRIPTION:Register here \nAs food allergens continue to be a leading cause of product recalls and increased regulatory scrutiny\, it is more important than ever to stay informed on the evolving landscape of allergen thresholds and risk-based approaches. \nIn this webinar\, Dr. Bert Popping (FOCOS) will revisit key topics in allergen risk assessment\, including reference doses and the Codex pathway toward risk-based management. Attendees will gain insight into the importance of preparing for the industry’s shift from detection-based methods to risk-based allergen management. The session will also explore what these changes mean for preparedness across both U.S. and global markets. \nDesigned for food manufacturers\, quality leaders\, and regulatory professionals\, this webinar will provide practical guidance to strengthen allergen management programs through science-based\, globally aligned strategies.
URL:https://foodindustryexecutive.com/food-industry-webinar/allergen-uncertainty-risk-assessment-reference-doses-and-codex-management-guidance/
CATEGORIES:Food Safety
ATTACH;FMTTYPE=image/png:https://foodindustryexecutive.com/wp-content/uploads/2024/10/food-safety.png
END:VEVENT
BEGIN:VEVENT
DTSTART;TZID=America/Detroit:20260512T093000
DTEND;TZID=America/Detroit:20260512T123000
DTSTAMP:20260424T151335
CREATED:20260420T090544Z
LAST-MODIFIED:20260420T090544Z
UID:28792-1778578200-1778589000@foodindustryexecutive.com
SUMMARY:Leveraging AI for Food Safety: From Strategy to Impact
DESCRIPTION:Register here \nArtificial intelligence (AI) is changing how the food industry identifies risks\, manages compliance\, and improves operational performance. This dynamic workshop brings together leaders from industry\, academia\, and government to demonstrate how AI can be practically applied in food safety—from data strategy to daily execution. Through short\, expert talks\, real-world examples\, and hands-on group work\, participants will leave with clear next steps for implementing AI tools that drive measurable improvement.
URL:https://foodindustryexecutive.com/food-industry-webinar/leveraging-ai-for-food-safety-from-strategy-to-impact/
CATEGORIES:Food Safety
ATTACH;FMTTYPE=image/png:https://foodindustryexecutive.com/wp-content/uploads/2026/04/food_safety_summit_logo.png
END:VEVENT
BEGIN:VEVENT
DTSTART;TZID=America/Detroit:20260512T133000
DTEND;TZID=America/Detroit:20260512T153000
DTSTAMP:20260424T151335
CREATED:20260420T085800Z
LAST-MODIFIED:20260420T085800Z
UID:28791-1778592600-1778599800@foodindustryexecutive.com
SUMMARY:Navigating Food Allergens: Insights and Strategies for Effective Management
DESCRIPTION:Register here \nThis workshop will cover essential aspects of food allergens\, including allergen labeling requirements\, the complexities of allergen management in manufacturing\, and best practices for validating and verifying allergen cleaning processes. Additionally\, the curriculum will incorporate consumer perspectives and educational resources\, ensuring that participants are well-equipped to handle allergen-related challenges in the food industry.
URL:https://foodindustryexecutive.com/food-industry-webinar/navigating-food-allergens-insights-and-strategies-for-effective-management/
CATEGORIES:Food Safety
ATTACH;FMTTYPE=image/png:https://foodindustryexecutive.com/wp-content/uploads/2026/04/food_safety_summit_logo.png
END:VEVENT
BEGIN:VEVENT
DTSTART;TZID=America/Detroit:20260512T140000
DTEND;TZID=America/Detroit:20260512T150000
DTSTAMP:20260424T151335
CREATED:20260413T055604Z
LAST-MODIFIED:20260413T055604Z
UID:28747-1778594400-1778598000@foodindustryexecutive.com
SUMMARY:Reduce Sugar\, Maintain Taste: Smarter Solutions for High-Protein Beverages
DESCRIPTION:Register here \nThe demand for high-protein and functional beverages continues to grow\, driven by consumers seeking products that deliver enhanced nutrition–often with added protein\, fiber\, electrolytes\, and other functional benefits. At the same time\, reducing sugar has become a baseline expectation\, creating a complex formulation challenge for product developers. \nIn this webinar\, we will explore practical strategies for reducing sugar in high-protein and functional beverage systems without compromising taste\, stability\, or overall sensory performance. Learn how ingredients like erythritol can provide clean\, sugar-like sweetness\, support flavor balance\, and work synergistically with high-intensity sweeteners\, while also addressing challenges related to texture and stability in more complex formulations. \nThis session will deliver application-focused insights to help you deliver next-generation beverages that meet both consumer expectations and technical requirements. \nKey Takeaways: \n\nPractical strategies to reduce sugar in high-protein systems without sacrificing taste\nHow erythritol functions in beverage systems\nApproaches to balancing sweetness with high-intensity sweeteners\nFormulation considerations for protein astringency modulation and stability improvement
URL:https://foodindustryexecutive.com/food-industry-webinar/reduce-sugar-maintain-taste-smarter-solutions-for-high-protein-beverages/
CATEGORIES:Processing
ATTACH;FMTTYPE=image/jpeg:https://foodindustryexecutive.com/wp-content/uploads/2024/10/prepared-foods.jpg
END:VEVENT
BEGIN:VEVENT
DTSTART;TZID=America/Detroit:20260512T160000
DTEND;TZID=America/Detroit:20260512T180000
DTSTAMP:20260424T151335
CREATED:20260420T085131Z
LAST-MODIFIED:20260420T085131Z
UID:28790-1778601600-1778608800@foodindustryexecutive.com
SUMMARY:Effective Pathogen Control Through Identification and Management of Sources and Harborages in the Processing Environment
DESCRIPTION:Register here \nPathogens present significant risks and challenges to food safety for food processors across industries. Understanding how pathogens enter and remain within a controlled processing environment is key to effective management of the associated risks. \nLearning Objectives: \n\nWalk the shop floor and engage in identifying potential sources of how pathogens enter a protected space\nLearn how pathogens may continue to reside within the controlled processing environment\nDiscuss examples of actions and best practices to mitigate risks associated with identified pathogen sources and harborages
URL:https://foodindustryexecutive.com/food-industry-webinar/effective-pathogen-control-through-identification-and-management-of-sources-and-harborages-in-the-processing-environment/
CATEGORIES:Food Safety
ATTACH;FMTTYPE=image/png:https://foodindustryexecutive.com/wp-content/uploads/2026/04/food_safety_summit_logo.png
END:VEVENT
BEGIN:VEVENT
DTSTART;TZID=America/Detroit:20260513T090000
DTEND;TZID=America/Detroit:20260513T100000
DTSTAMP:20260424T151335
CREATED:20260420T084245Z
LAST-MODIFIED:20260420T084245Z
UID:28788-1778662800-1778666400@foodindustryexecutive.com
SUMMARY:Meat Institute’s Foreign Material Maturity Model—What and How
DESCRIPTION:Register here \nForeign material prevention remains one of the most persistent and costly challenges in protein production. To support industry-wide improvement\, the Meat Institute developed the Foreign Material Maturity Model (FMMM)—a structured framework that helps organizations assess readiness\, identify gaps\, strengthen prevention programs\, and drive continuous improvement across multiple plants and processes. \nThis highly interactive session brings together leading processors to discuss how the model works in real operations\, what it takes to get started\, and the lessons learned from implementation at scale. The session begins with a live audience poll to understand current awareness\, adoption\, and ownership of FM prevention across facilities. \nMatt Thomas of Tyson Foods will provide a brief overview of the model’s development and the purpose behind its creation—setting a common foundation for discussion. A moderated panel conversation will then explore practical applications and strategies through the lens of four major protein companies.
URL:https://foodindustryexecutive.com/food-industry-webinar/meat-institutes-foreign-material-maturity-model-what-and-how/
CATEGORIES:Food Safety
ATTACH;FMTTYPE=image/png:https://foodindustryexecutive.com/wp-content/uploads/2026/04/food_safety_summit_logo.png
END:VEVENT
BEGIN:VEVENT
DTSTART;TZID=America/Detroit:20260513T100000
DTEND;TZID=America/Detroit:20260513T110000
DTSTAMP:20260424T151335
CREATED:20260311T085412Z
LAST-MODIFIED:20260311T085412Z
UID:28454-1778666400-1778670000@foodindustryexecutive.com
SUMMARY:Healthy ageing - nutrition for longevity and vitality
DESCRIPTION:Register here \nThis session explores how nutrition can help maintain muscle mass\, cognitive function\, bone health and metabolic resilience.
URL:https://foodindustryexecutive.com/food-industry-webinar/healthy-ageing-nutrition-for-longevity-and-vitality/
CATEGORIES:Processing
ATTACH;FMTTYPE=image/png:https://foodindustryexecutive.com/wp-content/uploads/2026/03/Food-Navigator-USA.png
END:VEVENT
BEGIN:VEVENT
DTSTART;TZID=America/Detroit:20260513T100000
DTEND;TZID=America/Detroit:20260513T110000
DTSTAMP:20260424T151335
CREATED:20260420T081131Z
LAST-MODIFIED:20260420T081131Z
UID:28784-1778666400-1778670000@foodindustryexecutive.com
SUMMARY:Healthy ageing - nutrition for longevity and vitality
DESCRIPTION:Register here \nThis session explores how nutrition can help maintain muscle mass\, cognitive function\, bone health and metabolic resilience.
URL:https://foodindustryexecutive.com/food-industry-webinar/healthy-ageing-nutrition-for-longevity-and-vitality-2/
CATEGORIES:Processing
ATTACH;FMTTYPE=image/avif:https://foodindustryexecutive.com/wp-content/uploads/2026/04/4AGUMISVUFBD5HOMQK7VSRVLMI.avif
END:VEVENT
BEGIN:VEVENT
DTSTART;TZID=America/Detroit:20260514T090000
DTEND;TZID=America/Detroit:20260514T100000
DTSTAMP:20260424T151335
CREATED:20260420T074526Z
LAST-MODIFIED:20260420T074526Z
UID:28782-1778749200-1778752800@foodindustryexecutive.com
SUMMARY:Formulate for Impact: Bringing Environmental Intelligence Into the Feed Formulation Workflow
DESCRIPTION:Register here \nIn this webinar\, Datacor and Nuvio Planet explore what it looks like to bring environmental impact data into feed formulation workflows alongside cost and nutrition\, one click away and integrated into the tools teams already use.
URL:https://foodindustryexecutive.com/food-industry-webinar/formulate-for-impact-bringing-environmental-intelligence-into-the-feed-formulation-workflow/
CATEGORIES:Processing
ATTACH;FMTTYPE=image/png:https://foodindustryexecutive.com/wp-content/uploads/2024/10/feed-and-grain-logo.png
END:VEVENT
BEGIN:VEVENT
DTSTART;TZID=America/Detroit:20260514T140000
DTEND;TZID=America/Detroit:20260514T150000
DTSTAMP:20260424T151335
CREATED:20260413T064955Z
LAST-MODIFIED:20260413T064955Z
UID:28751-1778767200-1778770800@foodindustryexecutive.com
SUMMARY:From Benchtop to In-Line for Compositional Analysis of Milk
DESCRIPTION:Register here \nBenchtop analyzers for compositional analysis of dairy samples are traditionally based on FT-IR spectrometers. Benchtop FT-IR analyzers have repeatability and accuracy necessary to serve as the reference measurement for samples used to calibrate in-line analyzers. Direct transfer of calibrations from the benchtop FT-IR analyzers is not possible as most in-line analyzers are based on Near-Infrared technology. \nBruker Optics introduced an FT-NIR based benchtop analyzer for measurement of fluid dairy samples nearly 10 years ago. The instruments have been certified by IDF and ISO as having accuracy and reproducibility comparable to the reference methods for compositional analysis of dairy products. Moreover\, the FT-NIR benchtop instruments utilize the same spectral range as instruments used for in-line analysis. This begs the question if calibrations developed on a benchtop FT-NIR spectrometer can be transferred to measurements performed using an in-line FT-NIR. \nIn this presentation\, we will explore the advantages and potential challenges of transferring PLS calibrations from a benchtop FT-NIR to inline FT-NIR measurements. WE will discuss the practical limitations due to measurement cell design\, sample type\, temperature\, and flow rate for the in-line system.
URL:https://foodindustryexecutive.com/food-industry-webinar/from-benchtop-to-in-line-for-compositional-analysis-of-milk/
CATEGORIES:Technology
ATTACH;FMTTYPE=image/png:https://foodindustryexecutive.com/wp-content/uploads/2025/12/ADPI-logo.png
END:VEVENT
BEGIN:VEVENT
DTSTART;TZID=America/Detroit:20260528T140000
DTEND;TZID=America/Detroit:20260528T150000
DTSTAMP:20260424T151335
CREATED:20260420T083139Z
LAST-MODIFIED:20260420T083139Z
UID:28787-1779976800-1779980400@foodindustryexecutive.com
SUMMARY:Advanced Sanitation Strategies for Allergen Risk Reduction in Food Processing
DESCRIPTION:Register here \nAllergen control in food processing is trending toward a more risk-based approach\, with the Codex Committee on Food Labeling (CCFL) considering the management of Precautionary Allergen Labeling (PAL) using thresholds and action levels\, along with adoption of best allergen control practices including sanitation. In the U.S.\, the Food and Drug Administration (FDA) is reviewing the Codex considerations and other allergen safety concerns (such as gluten cross-contact) for potential industry guidance and changes to allergen management best practices. \nIn this webinar\, experts from the Food Allergy Research and Resource Program (FARRP) at the University of Nebraska and Kerry Group will consider the dynamics of validation and verification for allergen control\, along with how analytical tools can help support a standard of “visually clean.” They will also explore risk-based concepts and best practices for allergen management\, particularly regarding sanitation procedures for various processing environments (e.g.\, dry/low-moisture)\, the benefits of analytical testing\, and the provision of PAL statements. \nFrom this webinar\, attendees will learn:   \n\nCurrent and developing guidance for allergen management best practices\nWhy validation and verification are necessary for allergen control\, and how analytical tools can support allergen management programs\nRisk-based concepts for allergen management and best practices for sanitation
URL:https://foodindustryexecutive.com/food-industry-webinar/advanced-sanitation-strategies-for-allergen-risk-reduction-in-food-processing/
CATEGORIES:Food Safety
ATTACH;FMTTYPE=image/png:https://foodindustryexecutive.com/wp-content/uploads/2024/10/food-safety.png
END:VEVENT
BEGIN:VEVENT
DTSTART;TZID=America/Detroit:20260529T120000
DTEND;TZID=America/Detroit:20260529T130000
DTSTAMP:20260424T151335
CREATED:20260402T173708Z
LAST-MODIFIED:20260402T173708Z
UID:28674-1780056000-1780059600@foodindustryexecutive.com
SUMMARY:Seek and Destroy: Responding to Listeria Positives
DESCRIPTION:Register here \n\nAbout This Session\nListeria doesn’t hide\, it travels. When your Environmental Monitoring program flags a positive\, what you do next either fixes the real problem or just delays it. In this FSMA Friday session\, Steven Tsuyuki\, Food Safety Senior Advisor of The Acheson Group\, breaks down the Seek and Destroy framework: an investigation-first approach that traces exactly where Listeria came from and how it moved — before anyone picks up a mop. If your team keeps chasing positives without closing them out for good\, this session is for you. \nWhat You’ll Learn \n\nWhy the Listeria Control Equation matters and how one weak link across traffic patterns\, GMPs\, sanitation\, floors\, or equipment design opens the door to your next EM positive.\nWhat “Seek” actually looks like: your team runs a CSI-style investigation to trace where Listeria came from and how it moved before you touch a single piece of equipment.\nHow to destroy the right way: targeted investigative swabbing\, rinsate sampling\, and corrective actions that eliminate the risk instead of papering over it with an SOP.
URL:https://foodindustryexecutive.com/food-industry-webinar/seek-and-destroy-responding-to-listeria-positives/
CATEGORIES:Food Safety
ATTACH;FMTTYPE=image/png:https://foodindustryexecutive.com/wp-content/uploads/2024/03/safetychain.png
END:VEVENT
BEGIN:VEVENT
DTSTART;TZID=America/Detroit:20260603T140000
DTEND;TZID=America/Detroit:20260603T150000
DTSTAMP:20260424T151335
CREATED:20260318T150119Z
LAST-MODIFIED:20260318T150119Z
UID:28506-1780495200-1780498800@foodindustryexecutive.com
SUMMARY:IFPA and Circana Floral and Produce Deep Dive Q2
DESCRIPTION:Register here \nJoin IFPA and Circana for a fresh\, data‑driven look at today’s produce and floral marketplace. This webinar explores the latest shopper trends\, retail performance insights\, and the economic forces influencing how consumers buy fresh fruits\, vegetables\, and floral products. Industry experts will unpack emerging behaviors\, identify category growth opportunities\, and highlight the marketplace dynamics shaping the year ahead.
URL:https://foodindustryexecutive.com/food-industry-webinar/ifpa-and-circana-floral-and-produce-deep-dive-q2/
CATEGORIES:Industry News and Analysis
ATTACH;FMTTYPE=image/jpeg:https://foodindustryexecutive.com/wp-content/uploads/2026/03/Circana_Logo.jpg
END:VEVENT
BEGIN:VEVENT
DTSTART;VALUE=DATE:20260609
DTEND;VALUE=DATE:20260610
DTSTAMP:20260424T151335
CREATED:20260413T070137Z
LAST-MODIFIED:20260413T070137Z
UID:28753-1780963200-1781049599@foodindustryexecutive.com
SUMMARY:EPR Virtual Connect
DESCRIPTION:Register here \nFollowing the success of ACI’s EPR Think Tank conference\, this one-day virtual event continues the conversation with timely insights and practical guidance on navigating the evolving landscape of U.S. packaging Extended Producer Responsibility (EPR) laws.\nAs more states\, including California\, Colorado\, Oregon\, Minnesota\, Maryland\, and Washington\, move forward with EPR frameworks\, producers are facing growing compliance obligations and operational challenges. Building on the discussions from January’s Think Tank\, this program will explore emerging implementation questions\, early compliance experiences\, and the next wave of regulatory developments\, helping companies turn evolving requirements into practical strategies.
URL:https://foodindustryexecutive.com/food-industry-webinar/epr-virtual-connect/
CATEGORIES:Industry News and Analysis
ATTACH;FMTTYPE=image/png:https://foodindustryexecutive.com/wp-content/uploads/2025/02/american-conference-institute.png
END:VEVENT
BEGIN:VEVENT
DTSTART;TZID=America/Detroit:20260610T100000
DTEND;TZID=America/Detroit:20260610T110000
DTSTAMP:20260424T151335
CREATED:20260311T090207Z
LAST-MODIFIED:20260311T090207Z
UID:28455-1781085600-1781089200@foodindustryexecutive.com
SUMMARY:Feeding the future with fibre
DESCRIPTION:Register here \nThis session dives into the fibre renaissance\, spotlighting novel sources\, prebiotic innovations and formulation strategies that make fibre-rich products more appealing and effective.
URL:https://foodindustryexecutive.com/food-industry-webinar/feeding-the-future-with-fibre/
CATEGORIES:Processing
ATTACH;FMTTYPE=image/png:https://foodindustryexecutive.com/wp-content/uploads/2026/03/Food-Navigator-USA.png
END:VEVENT
BEGIN:VEVENT
DTSTART;TZID=America/Detroit:20260909T140000
DTEND;TZID=America/Detroit:20260909T150000
DTSTAMP:20260424T151335
CREATED:20260318T145139Z
LAST-MODIFIED:20260318T145139Z
UID:28505-1788962400-1788966000@foodindustryexecutive.com
SUMMARY:IFPA and Circana Floral and Produce Deep Dive Q3
DESCRIPTION:Register here \nJoin IFPA and Circana for a fresh\, data‑driven look at today’s produce and floral marketplace. This webinar explores the latest shopper trends\, retail performance insights\, and the economic forces influencing how consumers buy fresh fruits\, vegetables\, and floral products. Industry experts will unpack emerging behaviors\, identify category growth opportunities\, and highlight the marketplace dynamics shaping the year ahead.
URL:https://foodindustryexecutive.com/food-industry-webinar/ifpa-and-circana-floral-and-produce-deep-dive-q3/
CATEGORIES:Industry News and Analysis
ATTACH;FMTTYPE=image/jpeg:https://foodindustryexecutive.com/wp-content/uploads/2026/03/Circana_Logo.jpg
END:VEVENT
BEGIN:VEVENT
DTSTART;TZID=America/Detroit:20261202T140000
DTEND;TZID=America/Detroit:20261202T150000
DTSTAMP:20260424T151335
CREATED:20260318T144529Z
LAST-MODIFIED:20260318T144529Z
UID:28502-1796220000-1796223600@foodindustryexecutive.com
SUMMARY:IFPA and Circana Floral and Produce Deep Dive Q4
DESCRIPTION:Register here \nJoin IFPA and Circana for a fresh\, data‑driven look at today’s produce and floral marketplace. This webinar explores the latest shopper trends\, retail performance insights\, and the economic forces influencing how consumers buy fresh fruits\, vegetables\, and floral products. Industry experts will unpack emerging behaviors\, identify category growth opportunities\, and highlight the marketplace dynamics shaping the year ahead.
URL:https://foodindustryexecutive.com/food-industry-webinar/ifpa-and-circana-floral-and-produce-deep-dive-q4/
CATEGORIES:Industry News and Analysis
ATTACH;FMTTYPE=image/jpeg:https://foodindustryexecutive.com/wp-content/uploads/2026/03/Circana_Logo.jpg
END:VEVENT
END:VCALENDAR