BEGIN:VCALENDAR
VERSION:2.0
PRODID:-//Food Industry Executive - ECPv5.8.1//NONSGML v1.0//EN
CALSCALE:GREGORIAN
METHOD:PUBLISH
X-WR-CALNAME:Food Industry Executive
X-ORIGINAL-URL:https://foodindustryexecutive.com
X-WR-CALDESC:Events for Food Industry Executive
BEGIN:VTIMEZONE
TZID:America/New_York
BEGIN:DAYLIGHT
TZOFFSETFROM:-0500
TZOFFSETTO:-0400
TZNAME:EDT
DTSTART:20210314T070000
END:DAYLIGHT
BEGIN:STANDARD
TZOFFSETFROM:-0400
TZOFFSETTO:-0500
TZNAME:EST
DTSTART:20211107T060000
END:STANDARD
TZID:America/Los_Angeles
BEGIN:DAYLIGHT
TZOFFSETFROM:-0800
TZOFFSETTO:-0700
TZNAME:PDT
DTSTART:20210314T100000
END:DAYLIGHT
BEGIN:STANDARD
TZOFFSETFROM:-0700
TZOFFSETTO:-0800
TZNAME:PST
DTSTART:20211107T090000
END:STANDARD
END:VTIMEZONE
BEGIN:VEVENT
DTSTART;TZID=America/New_York:20210728T140000
DTEND;TZID=America/New_York:20210728T150000
DTSTAMP:20210731T213054
CREATED:20210719T231344Z
LAST-MODIFIED:20210720T001430Z
UID:14607-1627480800-1627484400@foodindustryexecutive.com
SUMMARY:Enabling excellence from brand to product lifecycle management
DESCRIPTION:How quickly can you establish a new process to support multiple disciplines working collaboratively? \nLearn how to launch more product initiatives to market with an integrated PLM software\nThis includes brand hierarchy management\, ideation\, program management\, project collaboration\, and product lifecycle management. \nJoin Siemens for this 30 minute session about integrated program and lifecycle management. They will provide insights on how to achieve significant business value: \n\n3x faster project initialization\n40% less redundant assets created during product development\n15% reduction of non-value-adding efforts during project execution\n50% increase in product variant capacity in development\n\nRegister here.
URL:https://foodindustryexecutive.com/food-industry-webinar/enabling-excellence-from-brand-to-product-lifecycle-management/
CATEGORIES:Manufacturing,Technology
ATTACH;FMTTYPE=image/png:https://foodindustryexecutive.com/wp-content/uploads/2021/07/Siemens-logo.png
END:VEVENT
BEGIN:VEVENT
DTSTART;TZID=America/Los_Angeles:20210729T080000
DTEND;TZID=America/Los_Angeles:20210729T090000
DTSTAMP:20210731T213054
CREATED:20210727T235713Z
LAST-MODIFIED:20210728T000314Z
UID:14685-1627545600-1627549200@foodindustryexecutive.com
SUMMARY:How Wawa Drives Employee Loyalty Through Communications
DESCRIPTION:Learn how Wawa fosters a sense of community across 35\,000 employees \nWhat makes Wawa such a beloved everyday destination? And why do Associates choose to stay on\, sometimes for decades? \nOn Thursday\, July 29\, join Caitlyn McCarthy\, Internal Communications Lead for Wawa\, as she shares her best practices on building a sense of community across 35\,000 employees. Learn how to: \n\nAlign comms with the core values to create a sense of belonging for every single employee\, no matter where they are or who they are.\nBring these values to life\, every day\, every way\, through a mobile-first platform.\nDrive exceptional customer experiences with highly engaged employees.\n\nRegister here. \nCaitlyn McCarthy Internal Communications Lead Wawa\nBecky Graebe Sr. Director\, Communication Strategy Dynamic Signal\n 
URL:https://foodindustryexecutive.com/food-industry-webinar/how-wawa-drives-employee-loyalty-through-communications/
CATEGORIES:E-commerce,Leadership
ATTACH;FMTTYPE=image/png:https://foodindustryexecutive.com/wp-content/uploads/2021/07/Dynamic-Signal-logo.png
END:VEVENT
BEGIN:VEVENT
DTSTART;TZID=America/New_York:20210729T140000
DTEND;TZID=America/New_York:20210729T150000
DTSTAMP:20210731T213054
CREATED:20210625T214438Z
LAST-MODIFIED:20210625T214438Z
UID:14475-1627567200-1627570800@foodindustryexecutive.com
SUMMARY:A Deeper Dive Into the Salaries and Job Satisfaction of the Food Industry
DESCRIPTION:Results from Food Processing’s biennial Salary & Job Satisfaction Survey will reveal average paychecks for seven job classifications\, income disparities among the food & beverage product categories and levels of job satisfaction. Plus we’ll discuss training and how to retain workers. \nRegister here.
URL:https://foodindustryexecutive.com/food-industry-webinar/a-deeper-dive-into-the-salaries-and-job-satisfaction-of-the-food-industry/
ATTACH;FMTTYPE=image/png:https://foodindustryexecutive.com/wp-content/uploads/2021/06/food-processing-logo.png
END:VEVENT
BEGIN:VEVENT
DTSTART;TZID=America/New_York:20210729T140000
DTEND;TZID=America/New_York:20210729T150000
DTSTAMP:20210731T213054
CREATED:20210728T192456Z
LAST-MODIFIED:20210728T192456Z
UID:14696-1627567200-1627570800@foodindustryexecutive.com
SUMMARY:Addressing Workforce Issues and Improving Your Company's ESG Scores
DESCRIPTION:An effective environmental\, social\, and governance (ESG) strategy and strong ESG scores enhance a company’s market and accounting performance\, improve business reputation\, and foster employee engagement. \nAttend this webinar to gain an overview of ESG scores and the workforce issues considered under the social factor. Discover practical\, cost-effective\, and proactive strategies you can implement to help improve your company’s social factor score in ESG ratings. \nRegister here. \nCan’t join us for the live event?\nWe’ve got you covered. Register here\, and we’ll send you the on-demand viewing link shortly after the broadcast. \n 
URL:https://foodindustryexecutive.com/food-industry-webinar/addressing-workforce-issues-and-improving-your-companys-esg-scores/
CATEGORIES:E-commerce,Leadership
ATTACH;FMTTYPE=image/png:https://foodindustryexecutive.com/wp-content/uploads/2021/06/EHS-Today-logo.png
END:VEVENT
END:VCALENDAR